BEGIN:VCALENDAR
VERSION:2.0
PRODID:-//CJLI - ECPv4.9.4//NONSGML v1.0//EN
CALSCALE:GREGORIAN
METHOD:PUBLISH
X-WR-CALNAME:CJLI
X-ORIGINAL-URL:https://www.cjli.ca
X-WR-CALDESC:Events for CJLI
BEGIN:VTIMEZONE
TZID:"America/Edmonton"
BEGIN:DAYLIGHT
TZOFFSETFROM:-0700
TZOFFSETTO:-0600
TZNAME:MDT
DTSTART:20230312T090000
END:DAYLIGHT
BEGIN:STANDARD
TZOFFSETFROM:-0600
TZOFFSETTO:-0700
TZNAME:MST
DTSTART:20231105T080000
END:STANDARD
END:VTIMEZONE
BEGIN:VEVENT
DTSTART;TZID="America/Edmonton":20230506T090000
DTEND;TZID="America/Edmonton":20230506T170000
DTSTAMP:20231001T224915
CREATED:20230417T021823Z
LAST-MODIFIED:20230417T142304Z
UID:9733-1683363600-1683392400@www.cjli.ca
SUMMARY:Last Days Bible Conference
DESCRIPTION:The 20th anniversary of the annual Last Days Bible Conference\, presenting knowledgeable speakers on relevant topics for our day. \nNo cost to attend; free will offerings will be taken to defer costs.\nNo childcare provided. For further information and to register visit www.ldbc.ca. \n
URL:https://www.cjli.ca/event/last-days-bible-conference/
CATEGORIES:Community Events
END:VEVENT
END:VCALENDAR